Workbook

Sheet титул 2015
K2: УТВЕРЖДАЮ
I3: Начальник управления образования администрации
I4: муниципального образования Собинский район
I5: Владимирской области
J6: / Гусева Г.П.
J7: (подпись ) (расшифровка подписи)
J8: " 30 " декабря 2015 г
A11: План финансово - хозяйственной деятельности на 2016 год и плановый период 2017 и 2018 годов
A12: =J8 -> " 30 " декабря 2015 г
A16: Наименование учреждения | D16: Муниципальное бюджетное дошкольное образовательное учреждение Собинского района детский сад №6 " Елочка " | L16: форма по ОКУД
A17: Наименование органа, осуществляющего | F17: Управление образования администрации муниципального образования Собинский район Владимирской области
A18: функции и полномочия учредителя | M18: по ОКПО | O18: 22722580
A19: Адрес фактического местонахождения | F19: 601216, Владимирская область, Собинский район, п.Асерхово, ул.Школьная д.6 | M19: по ОКАТО | O19: 17250000009
A21: Идентификационный номер налогоплательщика (ИНН) | G21: 3323004791 | M21: по ОКЕИ
A22: Код причины постановки на учет (КПП) | G22: 332301001 | M22: по ОКВ | O22: 383
A23: Единица измерения: руб.

Sheet раздел 1 и 2
A1: 1. Сведения о деятельности муниципального бюджетного учреждения
A3: 1.1. Цели деятельности муниципального бюджетного учреждения (подразделения): | B3: создание условий для реализации гарантированного гражданам Российской Федерации права на получение общедоступного и бесплатного дошкольного образования.
A4: 1.2. Виды деятельности муниципального бюджетного учреждения (подразделения): | B4: детский сад (реализует основную общеобразовательную программу дошкольного образования в группах общеразвивающей направленности)
A5: 1.3. Перечень услуг (работ), осуществляемых на платной основе:
A6: 1.4. Перечень движимого и недвижимого имущества, закрепленного на праве оперативного управления за учреждением, на дату составления Плана. | B6: Приложение №1 к настоящему плану
A9: 2. Показатели финансового состояния учреждения
A10: Наименование показателя | B10: Сумма
A11: I. Нефинансовые активы, всего: | B11: 6406475
A12: из них:
A13: 1.1. Общая балансовая стоимость недвижимого муниципального имущества, всего | B13: 558810
A14: в том числе:
A15: 1.1.1. Стоимость имущества, закрепленного собственником имущества за муниципальным бюджетным учреждением на праве оперативного управления | B15: 558810
A16: 1.1.2. Стоимость имущества, приобретенного муниципальным бюджетным учреждением (подразделением) за счет выделенных собственником имущества учреждения средств
A17: 1.1.3. Стоимость имущества, приобретенного муниципальным бюджетным учреждением (подразделением) за счет доходов, полученных от платной и иной приносящей доход деятельности
A18: 1.1.4. Остаточная стоимость недвижимого муниципального имущества | B18: 0
A19: 1.2. Общая балансовая стоимость движимого муниципального имущества, всего | B19: 634185.23
A20: в том числе:
A21: 1.2.1. Общая балансовая стоимость особо ценного движимого имущества | B21: 560523.93
A22: 1.2.2. Остаточная стоимость особо ценного движимого имущества | B22: 179018.38
A23: II. Финансовые активы, всего | B23: 123070.11
A24: из них:
A25: 2.1. Дебиторская задолженность по доходам, полученным за счет средств муниципального бюджета | B25: 0
A26: 2.2. Дебиторская задолженность по выданным авансам, полученным за счет средств муниципального бюджета всего:
A27: в том числе:
A28: 2.2.1. по выданным авансам на услуги связи
A29: 2.2.2. по выданным авансам на транспортные услуги
A30: 2.2.3. по выданным авансам на коммунальные услуги
A31: 2.2.4. по выданным авансам на услуги по содержанию имущества
A32: 2.2.5. по выданным авансам на прочие услуги
A33: 2.2.6. по выданным авансам на приобретение основных средств
A34: 2.2.7. по выданным авансам на приобретение нематериальных активов
A35: 2.2.8. по выданным авансам на приобретение непроизведенных активов
A36: 2.2.9. по выданным авансам на приобретение материальных запасов
A37: 2.2.10. по выданным авансам на прочие расходы
A38: 2.3. Дебиторская задолженность по выданным авансам за счет доходов, полученных от платной и иной приносящей доход деятельности, всего: | B38: 0
A39: в том числе:
A40: 2.3.1. по выданным авансам на услуги связи
A41: 2.3.2. по выданным авансам на транспортные услуги
A42: 2.3.3. по выданным авансам на коммунальные услуги
A43: 2.3.4. по выданным авансам на услуги по содержанию имущества
...

Sheet раздел 3
A1: 3. Показатели по поступлениям и выплатам учреждения
A3: Наименование показателя | B3: Вид расходов | C3: 2016 год (очередной/текущий финансовый год) | F3: 2017 год (1-й год планового периода) | I3: 2018 год (2-й год планового периода)
C4: ВСЕГО | D4: в том числе | F4: ВСЕГО | G4: в том числе | I4: ВСЕГО | J4: в том числе
D5: операции по лицевым счетам, открытым в органах, осуществляющих ведение лицевых счетов учреждений | E5: операции по счетам, открытым в кредитных организациях | G5: операции по лицевым счетам, открытым в органах, осуществляющих ведение лицевых счетов учреждений | H5: операции по счетам, открытым в кредитных организациях | J5: операции по лицевым счетам, открытым в органах, осуществляющих ведение лицевых счетов учреждений | K5: операции по счетам, открытым в кредитных организациях
A6: Планируемый остаток средств на начало планируемого года* | B6: Х | C6: =D6 -> 99152.3 | D6: 99152.3 | F6: 0 | G6: 0 | I6: 0 | J6: 0
A7: Поступления, всего: | B7: Х | C7: =C9+C10+C11+C12+C18+C22 -> 3168600 | D7: =D9+D10+D11+D12+D18+D22 -> 3168600 | F7: =F9+F10+F11+F12+F18+F22 -> 3111400 | G7: =G9+G10+G11+G12+G18+G22 -> 3111400 | I7: =I9+I10+I11+I12+I18+I22 -> 3111400 | J7: =J9+J10+J11+J12+J18+J22 -> 3111400 | K7: =K9+K10+K11+K12+K18+K22 -> 0
A8: в том числе: | B8: Х
A9: Субсидии на выполнении муниципального задания | B9: Х | C9: =D9 -> 2650000 | D9: =1137000+1513000 -> 2650000 | F9: =G9 -> 2592800 | G9: =D9+202800-260000 -> 2592800 | I9: =J9 -> 2592800 | J9: =G9 -> 2592800
A10: Целевые субсидии | B10: Х | C10: =D10 -> 0 | F10: =G10 -> 0 | I10: =J10 -> 0
A11: Бюджетные инвестиции | C11: 0 | D11: 0 | F11: 0 | I11: 0
A12: Поступления от оказания муниципальным бюджетным учреждением услуг (выполнения работ), предоставление которых для физических и юридических лиц осуществляется на платной основе, всего | B12: Х | C12: =D12 -> 0 | D12: =D14 -> 0 | F12: =G12 -> 0 | I12: =J12 -> 0
A13: в том числе: | B13: Х
A14: Услуга № 1 | B14: Х | C14: =D14 -> 0 | F14: =G14 -> 0 | I14: =J14 -> 0
A15: Услуга № 2 | B15: Х
A18: Поступления от иной приносящей доход деятельности, всего: | B18: Х | C18: =C20 -> 518600 | D18: =D20 -> 518600 | F18: =F20 -> 518600 | G18: =G20 -> 518600 | I18: =I20 -> 518600 | J18: =J20 -> 518600
A19: в том числе: | B19: Х
A20: родительская плата за содержание ребенка в МБДОУ | C20: =D20 -> 518600 | D20: 518600 | F20: =G20 -> 518600 | G20: =D20 -> 518600 | I20: =J20 -> 518600 | J20: =G20 -> 518600
A22: Поступления от реализации ценных бумаг | B22: Х | C22: 0 | D22: 0 | F22: 0 | I22: 0
A23: Планируемый остаток средств на конец планируемого года** | B23: Х | C23: =C6+C7-C25 -> 0 | D23: =D6+D7-D25 -> 0 | F23: =F6+F7-F25 -> 0 | G23: =G6+G7-G25 -> 0 | I23: =I6+I7-I25 -> 0 | J23: =J6+J7-J25 -> 0
A25: Выплаты, всего: | B25: 000 | C25: =C27+C37+C38 -> 3267752.3 | D25: =D27+D37+D38 -> 3267752.3 | E25: =E27+E37+E38 -> 0 | F25: =F27+F37+F38 -> 3111400 | G25: =G27+G37+G38 -> 3111400 | H25: =H27+H37+H38 -> 0 | I25: =I27+I37+I38 -> 3111400 | J25: =J27+J37+J38 -> 3111400 | K25: =K27+K37+K38 -> 0
A26: в том числе:
A27: Расходы на выплату персоналу учреждений | B27: 110 | C27: =C29+C35+C36 -> 2035400 | D27: =D29+D35+D36 -> 2035400 | F27: =F29+F35+F36 -> 2035400 | G27: =G29+G35+G36 -> 2035400 | I27: =I29+I35+I36 -> 2035400 | J27: =J29+J35+J36 -> 2035400
A28: из них:
A29: Заработная плата | B29: 111 | C29: =D29 -> 1562000 | D29: =846000+716000 -> 1562000 | F29: =G29 -> 1562000 | G29: =D29 -> 1562000 | I29: =J29 -> 1562000 | J29: =G29 -> 1562000
A30: Заработная плата рук учреждения | B30: 111.1 | C30: =C29*0.1446 -> 225865.2 | D30: =D29*0.1446 -> 225865.2 | F30: =F29*0.1446 -> 225865.2 | G30: =G29*0.1446 -> 225865.2 | I30: =I29*0.1446 -> 225865.2 | J30: =J29*0.1446 -> 225865.2
A31: Заработная плата зам рук, главного бухгалтера | B31: 111.2 | C31: =C29*0 -> 0 | D31: =D29*0 -> 0 | F31: =F29*0 -> 0 | G31: =G29*0 -> 0 | I31: =I29*0 -> 0 | J31: =J29*0 -> 0
A32: Заработ плата воспитателей | B32: 111.4 | C32: =C29*0.3199 -> 499683.8 | D32: =D29*0.3199 -> 499683.8 | F32: =F29*0.3199 -> 499683.8 | G32: =G29*0.3199 -> 499683.8 | I32: =I29*0.3199 -> 499683.8 | J32: =J29*0.3199 -> 499683.8
A33: Заработная плата другого пед персонала | B33: 111.5 | C33: =C29*0.0547 -> 85441.4 | D33: =D29*0.0547 -> 85441.4 | F33: =F29*0.0547 -> 85441.4 | G33: =G29*0.0547 -> 85441.4 | I33: =I29*0.0547 -> 85441.4 | J33: =J29*0.0547 -> 85441.4
A34: Заработная плата остального персонала | B34: 111.6 | C34: =C29-C30-C31-C32-C33 -> 751009.6 | D34: =D29-D30-D31-D32-D33 -> 751009.6 | F34: =F29-F30-F31-F32-F33 -> 751009.6 | G34: =G29-G30-G31-G32-G33 -> 751009.6 | I34: =I29-I30-I31-I32-I33 -> 751009.6 | J34: =J29-J30-J31-J32-J33 -> 751009.6
A35: Прочие выплаты | B35: 112 | C35: =D35 -> 1400 | D35: 1400 | F35: =G35 -> 1400 | G35: =D35 -> 1400 | I35: =J35 -> 1400 | J35: =G35 -> 1400
A36: Начисления на выплаты по оплате труда | B36: 119 | C36: =D36 -> 472000 | D36: =256000+216000 -> 472000 | F36: =G36 -> 472000 | G36: =D36 -> 472000 | I36: =J36 -> 472000 | J36: =G36 -> 472000
A37: Прочая закупка товаров, работ и услуг для обеспечения государственных (муниципальных) нужд | B37: 244 | C37: =D37 -> 1139952.3 | D37: =D20+24000+11000+579600-D38+99152.3 -> 1139952.3 | F37: =G37 -> 983600 | G37: =D37+202800-260000-99152.3 -> 983600 | I37: =J37 -> 983600 | J37: =G37 -> 983600
A38: Уплата налогов, сборов и иных платежей | B38: 850 | C38: =D38 -> 92400 | D38: 92400 | F38: =G38 -> 92400 | G38: =D38 -> 92400 | I38: =J38 -> 92400 | J38: =G38 -> 92400
A39: Справочно:
A40: Объем публичных обязательств, всего | B40: Х | C40: 0 | D40: 0
A42: Руководитель муниципального бюджетного учреждения | G42: Можаева О.А.
E43: (подпись) | H43: (расшифровка подписи)
A44: Главный бухгалтер муниципального
A45: бюджетного учреждения | E45: бухгалтерский работник в штате не предусмотрен
E46: (подпись) | H46: (расшифровка подписи)
...

Sheet приложение
A1: Приложение к ПФХД (расшифровка 244 вида расходов) по КОСГУ
A2: МБДОУ детский сад №6 "Елочка" п. Асерхово
A3: « 30» декабря 2015г.
A5: Наименование показателя | B5: Вид расходов | C5: Код по бюджетной классификации операции сектора государственного управления | D5: 2016 год(очередной/текущий финансовый год) | G5: 2017 год(1-й год планового периода) | J5: 2018 год (2-й год планового периода)
D6: ВСЕГО | E6: в том числе | G6: ВСЕГО | H6: в том числе | J6: ВСЕГО | K6: в том числе
E7: операции по лицевым счетам, открытым в органах, осуществляющих ведение лицевых счетов учреждений | F7: операции по счетам, открытым в кредитных организациях | H7: операции по лицевым счетам, открытым в органах, осуществляющих ведение лицевых счетов учреждений | I7: операции по счетам, открытым в кредитных организациях | K7: операции по лицевым счетам, открытым в органах, осуществляющих ведение лицевых счетов учреждений | L7: операции по счетам, открытым в кредитных организациях
A8: Прочая закупка товаров, работ и услуг для обеспечения государственных (муниципальных) нужд | B8: 244 | D8: ='раздел 3'!C37 -> 1139952.3 | E8: ='раздел 3'!D37 -> 1139952.3 | F8: ='раздел 3'!E37 -> 0 | G8: ='раздел 3'!F37 -> 983600 | H8: ='раздел 3'!G37 -> 983600 | I8: ='раздел 3'!H37 -> 0 | J8: ='раздел 3'!I37 -> 983600 | K8: ='раздел 3'!J37 -> 983600 | L8: ='раздел 3'!K37 -> 0
A9: Услуги связи | B9: 244 | C9: 221 | D9: =E9 -> 15300 | E9: 15300 | G9: =H9 -> 15300 | H9: =E9 -> 15300 | J9: =K9 -> 15300 | K9: =H9 -> 15300
A10: Транспортные услуги | B10: 244 | C10: 222 | D10: =E10 -> 300 | E10: 300 | G10: =H10 -> 300 | H10: =E10 -> 300 | J10: =K10 -> 300 | K10: =H10 -> 300
A11: Коммунальные услуги | B11: 244 | C11: 223 | D11: =E11 -> 260000 | E11: 260000 | G11: =H11 -> 202800 | H11: 202800 | J11: =K11 -> 202800 | K11: =H11 -> 202800
A12: Работы, услуги по содержанию имущества | B12: 244 | C12: 225 | D12: =E12 -> 56500 | E12: 56500 | G12: =H12 -> 56500 | H12: =E12 -> 56500 | J12: =K12 -> 56500 | K12: =H12 -> 56500
A13: Прочие работы, услуги | B13: 244 | C13: 226 | D13: =E13 -> 51000 | E13: =41000+10000 -> 51000 | G13: =H13 -> 51000 | H13: =E13 -> 51000 | J13: =K13 -> 51000 | K13: =H13 -> 51000
A14: Прочие расходы | B14: 244 | C14: 290 | D14: =E14 -> 10000 | E14: 10000 | G14: =H14 -> 10000 | H14: =E14 -> 10000 | J14: =K14 -> 10000 | K14: =H14 -> 10000
A15: Увеличение стоимости основных средств | B15: 244 | C15: 310 | D15: =E15 -> 24000 | E15: 24000 | G15: =H15 -> 24000 | H15: =E15 -> 24000 | J15: =K15 -> 24000 | K15: =H15 -> 24000
A16: Увеличение стоимости материальных запасов | B16: 244 | C16: 340 | D16: =E16 -> 722852.3 | E16: =11000+104100+473500+35100+99152.3 -> 722852.3 | G16: =H16 -> 623700 | H16: =E16-99152.3 -> 623700 | J16: =K16 -> 623700 | K16: =H16 -> 623700
D17: =SUM(D9:D16)-D8 -> 0 | E17: =SUM(E9:E16)-E8 -> 0 | F17: =SUM(F9:F16)-F8 -> 0 | G17: =SUM(G9:G16)-G8 -> 0 | H17: =SUM(H9:H16)-H8 -> 0 | I17: =SUM(I9:I16)-I8 -> 0 | J17: =SUM(J9:J16)-J8 -> 0 | K17: =SUM(K9:K16)-K8 -> 0 | L17: =SUM(L9:L16)-L8 -> 0

Sheet имущество
A1: Перечень движимого и недвижимого имущества МБДОУ №6"Елочка" с.Асерхово на 01.01.2016
A3: Инвентарный номер | B3: Наименование объекта | C3: Балансовая стоимость | D3: Остаточная стоимость
A4: 010.000000000010000 | B4: Здание сада №6 | C4: 411272.75 | D4: 0
A5: 010.000000000030000 | B5: Прачечная | C5: 147537.25 | D5: 0
A6: 013.000000000080002 | B6: Водонагреватель | C6: 3904 | D6: 0
A7: 013.000000000080004 | B7: Пианино Владимир | C7: 13259.91 | D7: 0
A8: 013.000000000080009 | B8: Холодильник Чинар | C8: 3302 | D8: 0
A9: 013.000000000080012 | B9: Эл.плита | C9: 3810 | D9: 0
A10: 013.000000000080015 | B10: Ванна с обвязкой | C10: 3024 | D10: 0
A11: 013.000000000080016 | B11: Водонагреватель Ти Троник | C11: 4284 | D11: 0
A12: 013.000000000080017 | B12: Стиральная машина Самсунг | C12: 10098 | D12: 0
A13: 016.000000000030001 | B13: Кровать 3-х ярусная | C13: 43434 | D13: 0
A14: 110.000000001040001 | B14: Охранно-пожарная сигнализация | C14: 97148 | D14: 8059.48
A15: 110.000000001040002 | B15: Эл.мясорубка | C15: 4500 | D15: 0
... A45: 510.000000001240001 | B45: Система видеонаблюдения | C45: 44943.95 | D45: 29963.9
C46: 7324222.4 | D46: 6310245.6
